BEGIN:VCALENDAR
VERSION:2.0
PRODID:-//Impact Philanthropy Africa - ECPv6.15.11//NONSGML v1.0//EN
CALSCALE:GREGORIAN
METHOD:PUBLISH
X-ORIGINAL-URL:https://impactphilanthropyafrica.org
X-WR-CALDESC:Events for Impact Philanthropy Africa
REFRESH-INTERVAL;VALUE=DURATION:PT1H
X-Robots-Tag:noindex
X-PUBLISHED-TTL:PT1H
BEGIN:VTIMEZONE
TZID:Africa/Nairobi
BEGIN:STANDARD
TZOFFSETFROM:+0300
TZOFFSETTO:+0300
TZNAME:EAT
DTSTART:20210101T000000
END:STANDARD
END:VTIMEZONE
BEGIN:VEVENT
DTSTART;TZID=Africa/Nairobi:20220224T080000
DTEND;TZID=Africa/Nairobi:20220224T140000
DTSTAMP:20260425T065347
CREATED:20220126T160226Z
LAST-MODIFIED:20220126T160229Z
UID:1640-1645689600-1645711200@impactphilanthropyafrica.org
SUMMARY:2022 Members’ inaugural Meeting
DESCRIPTION:
URL:https://impactphilanthropyafrica.org/event/2022-members-inaugural-meeting/
END:VEVENT
END:VCALENDAR