BEGIN:VCALENDAR
VERSION:2.0
PRODID:-//Impact Philanthropy Africa - ECPv6.15.11//NONSGML v1.0//EN
CALSCALE:GREGORIAN
METHOD:PUBLISH
X-ORIGINAL-URL:https://impactphilanthropyafrica.org
X-WR-CALDESC:Events for Impact Philanthropy Africa
REFRESH-INTERVAL;VALUE=DURATION:PT1H
X-Robots-Tag:noindex
X-PUBLISHED-TTL:PT1H
BEGIN:VTIMEZONE
TZID:Africa/Nairobi
BEGIN:STANDARD
TZOFFSETFROM:+0300
TZOFFSETTO:+0300
TZNAME:EAT
DTSTART:20210101T000000
END:STANDARD
END:VTIMEZONE
BEGIN:VEVENT
DTSTART;TZID=Africa/Nairobi:20220708T090000
DTEND;TZID=Africa/Nairobi:20220708T130000
DTSTAMP:20260425T171756
CREATED:20220629T142128Z
LAST-MODIFIED:20220629T142130Z
UID:1924-1657270800-1657285200@impactphilanthropyafrica.org
SUMMARY:Mount Kenya University (MKU) Launch of Innovation and Incubation Centre
DESCRIPTION:Mount Kenya University (MKU) will be launching an Innovation and Incubation Centre on Friday 8th July\, 2022. The facility\, which was co-funded by the Erasmus+ programme of the European Union through the African Higher Education Leadership for Advancing Inclusive Innovation for Development (AHEAD) project\, is intended to support the life cycle of innovations\, from inception to market diffusion and commercialization. It will enable scientific findings\, knowledge and intellectual property to flow from creators to the benefit of the community. \nDate: Friday 8th July\, 2022\, 9:00amVenue: Mwai Kibaki Convention Centre in MKU ThikaClick here for more information \n 
URL:https://impactphilanthropyafrica.org/event/mount-kenya-university-mku-launch-of-innovation-and-incubation-centre/
LOCATION:Mwai Kibaki Convention Centre in MKU Thika
END:VEVENT
BEGIN:VEVENT
DTSTART;TZID=Africa/Nairobi:20230504T080000
DTEND;TZID=Africa/Nairobi:20230504T130000
DTSTAMP:20260425T171756
CREATED:20230705T070317Z
LAST-MODIFIED:20230705T070318Z
UID:2087-1683187200-1683205200@impactphilanthropyafrica.org
SUMMARY:Health Committee Meeting
DESCRIPTION:Hosted by Gertrude’s Hospital Foundation. Members only.
URL:https://impactphilanthropyafrica.org/event/health-committee-meeting/
LOCATION:Simba Corp\, Aspire Centre\, Waiyaki Way\, Nairobi
END:VEVENT
BEGIN:VEVENT
DTSTART;TZID=Africa/Nairobi:20230509T080000
DTEND;TZID=Africa/Nairobi:20230509T130000
DTSTAMP:20260425T171756
CREATED:20230705T070520Z
LAST-MODIFIED:20230705T070522Z
UID:2089-1683619200-1683637200@impactphilanthropyafrica.org
SUMMARY:Youth Committee Meeting
DESCRIPTION:Hosted by Toyota Kenya Foundation. Members Only.
URL:https://impactphilanthropyafrica.org/event/youth-committee-meeting/
LOCATION:Toyota Kenya Academy\, CFAO Business Park\, popo road South C\, Nairobi
END:VEVENT
BEGIN:VEVENT
DTSTART;TZID=Africa/Nairobi:20230517T080000
DTEND;TZID=Africa/Nairobi:20230517T130000
DTSTAMP:20260425T171756
CREATED:20230705T070706Z
LAST-MODIFIED:20230705T070729Z
UID:2095-1684310400-1684328400@impactphilanthropyafrica.org
SUMMARY:Education Committee Meeting
DESCRIPTION:Hosted by I&M foundation. Members Only.
URL:https://impactphilanthropyafrica.org/event/education-committee-meeting/
LOCATION:I&M foundation\, 1 Park Avenue\, 1st Parklands Avenue.
END:VEVENT
END:VCALENDAR